Workbook
Name AAT: 'Non toccare'!#REF!
Name AGGREGATA: 'Non toccare'!$W$2:$W$20
Name AT: 'Non toccare'!#REF!
Name BASILICATA: 'Non toccare'!#REF!
Name BT: 'Non toccare'!#REF!
Name LOTTO1: 'Non toccare'!$AB$2
Name MONOFASE: 'Non toccare'!$S$2:$S$3
Name MT: 'Non toccare'!#REF!
Name NO: 'Non toccare'!$K$2
Name PA: 'Non toccare'!$M$1:$M$2
Name PER: 'Non toccare'!#REF!
Name PUGLIA: 'Non toccare'!#REF!
Name SI: 'Non toccare'!$K$3
Name TRIFASE: 'Non toccare'!$S$4:$S$5

Sheet Punti di fornitura
C2: ALLEGATO 1
C4: INTERCENTER 22 GAS
C5: Per eventuali dubbi fate riferimento alla Legenda
B7: IDENTIFICATIVO ORDINE
B8: NUMERO ORDINE | C8: LOTTO | D8: SOGGETTO GIURIDICO | E8: AMMINISTRAZIONE ORDINANTE REGISTRATA ALLA PIATTAFORMA DEI CREDITI COMMERCIALI DEL MEF | F8: NUMERO E DATA DETERMINA | G8: QUANTITA' ORDINATA (smc)
B9: Obbligatorio | C9: Obbligatorio - Scelta da elenco | D9: Obbligatorio - Scelta da elenco | E9: Obbligatorio - Scelta da elenco | F9: Facoltativo | G9: Il totale smc riportato in questa cella deve corrispondere esattamente alla "Quantita Ordinata" nell'ordinativo PDF - CALCOLO AUTOMATICO, NON TOCCARE
G10: =SUM(Z26:Z11020) -> 0
B12: DATI ANAGRAFICI CLIENTE
B13: RAGIONE SOCIALE | C13: CODICE FISCALE | D13: PARTITA IVA | E13: TOPONIMO | F13: INDIRIZZO | G13: NUMERO CIVICO | H13: COMUNE/LOCALITA' | I13: PROVINCIA | J13: CAP | K13: ISTAT | L13: SETTORE MERCEOLOGICO (ATECO)
B14: Obbligatorio | C14: Obbligatorio | D14: Obbligatorio | E14: Obbligatorio - Scelta da elenco | F14: Obbligatorio | G14: Obbligatorio | H14: Obbligatorio - Scelta da elenco, selezionare prima Regione | I14: Obbligatorio - Selezione automatica, modifica solo se il dato è diverso | J14: Obbligatorio - Selezione automatica, modifica solo se il dato è diverso | K14: Obbligatorio - Selezione automatica, modifica solo se il dato è diverso | L14: Obbligatorio - Scelta da elenco
I15: =VLOOKUP(H15,'Non toccare'!$A:$D,2,0) -> #N/A | J15: =VLOOKUP(H15,'Non toccare'!$A:$D,3,0) -> #N/A | K15: =VLOOKUP(H15,'Non toccare'!$A:$D,4,0) -> #N/A
B17: DATI ANAGRAFICI REFERENTE
B18: NOME | C18: COGNOME | D18: TELEFONO | E18: CELLULARE | F18: EMAIL | G18: RUOLO | H18: EMAIL PEC AMMINISTRAZIONE | I18: REGISTRAZIONE AL SITO EDISON
B19: Obbligatorio | C19: Obbligatorio | D19: Obbligatorio | E19: Obbligatorio | F19: Obbligatorio se si sceglie l'iscrizione al sito | G19: Obbligatorio - Scelta da elenco | H19: Facoltativo | I19: Facoltativo
A23: N. | B23: DATI INDIRIZZO FORNITURA | K23: INTESTAZIONE FATTURA | R23: DATI TECNICI FORNITURA | AC23: DATI FATTURAZIONE | AO23: EVENTUALI NOTE
B24: REMI | C24: PDR | D24: TOPONIMO | E24: INDIRIZZO | F24: NUMERO CIVICO | G24: COMUNE/LOCALITA' | H24: PROVINCIA | I24: CAP | J24: ISTAT | K24: INTESTAZIONE | L24: TOPONIMO | M24: INDIRIZZO | N24: NUMERO CIVICO | O24: COMUNE/LOCALITA' | P24: PROVINCIA | Q24: CAP | R24: DATA INIZIO FORNITURA | S24: REGIME DI PROVENIENZA | T24: TIPO UTILIZZO | U24: CATEGORIA D'USO | V24: DISALIMENTABILITA' | W24: CLASSE MISURATORE | X24: MATRICOLA CONTATORE | Y24: ATTUALE FORNITORE | Z24: CONSUMO ANNUO STIMATO (SMC) | AA24: CAPACITA' GIORNALIERA | AB24: COGENERATORE | AC24: TRATTAMENTO IVA | AD24: SPLIT PAYMENT | AE24: AGEVOLAZIONE ACCISE | AF24: MODALITA' AGGREGAZIONE | AG24: CODICE UNICO UFFICO | AH24: CODICE FISCALE FATTURA ELETTRONICA | AI24: EMAIL PEC FATTURAZIONE ELETTRONICA | AJ24: CIG DERIVATO ENTE | AK24: RITENUTA 0,5% DPR N. 207/2010 | AL24: CENTRO DI COSTO | AM24: MODALITA' PAGAMENTO | AN24: IBAN
B25: Obbligatorio | C25: Obbligatorio | D25: Obbligatorio - Scelta da elenco | E25: Obbligatorio | F25: Obbligatorio | G25: Obbligatorio - Scelta da elenco, seleziona prima Regione | H25: Obbligatorio - Selezione automatica, modifica solo se il dato è diverso | I25: Obbligatorio - Selezione automatica, modifica solo se il dato è diverso | J25: Obbligatorio - Selezione automatica, modifica solo se il dato è diverso | K25: Obbligatorio - Selezione automatica, modifica solo se il dato è diverso | L25: Obbligatorio - Selezione automatica, modifica solo se il dato è diverso | M25: Obbligatorio - Selezione automatica, modifica solo se il dato è diverso | N25: Obbligatorio - Selezione automatica, modifica solo se il dato è diverso | O25: Obbligatorio - Selezione automatica, modifica solo se il dato è diverso | P25: Obbligatorio - Selezione automatica, modifica solo se il dato è diverso | Q25: Obbligatorio - Selezione automatica, modifica solo se il dato è diverso | R25: Obbligatorio - Scelta da elenco | S25: Obbligatorio - Scelta da elenco | T25: Obbligatorio - Scelta da elenco | U25: Obbligatorio - Scelta da elenco | V25: Obbligatorio - Scelta da elenco | W25: Obbligatorio - Scelta da elenco | X25: Obbligatorio | Y25: Obbligatorio - Scelta da elenco | Z25: Obbligatorio - Numerico | AA25: Obbligatorio (porre particolare attenzione nella compilazione) | AB25: Obbligatorio - Scelta da elenco (porre particolare attenzione nella selezione) | AC25: Obbligatorio - Scelta da elenco | AD25: Obbligatorio - Scelta da elenco | AE25: Obbligatorio - Scelta da elenco | AF25: Facoltativo | AG25: Obbligatorio | AH25: Obbligatorio - Selezione automatica, modifica solo se il dato è diverso | AI25: Facoltativo | AJ25: Obbligatorio | AK25: Obbligatorio - Scelta da elenco | AL25: Facoltativo | AM25: Obbligatorio - Scelta da elenco | AN25: Obbligatorio - Se pagamento RID/SEPA | AO25: Facoltativo
A26: 1 | H26: =VLOOKUP(G26,'Non toccare'!$A:$D,2,0) -> #N/A | I26: =VLOOKUP(G26,'Non toccare'!$A:$D,3,0) -> #N/A | J26: =VLOOKUP(G26,'Non toccare'!$A:$D,4,0) -> #N/A | P26: =VLOOKUP(O26,'Non toccare'!$A:$D,2,0) -> #N/A | Q26: =VLOOKUP(O26,'Non toccare'!$A:$D,3,0) -> #N/A
A27: 2 | H27: =VLOOKUP(G27,'Non toccare'!$A:$D,2,0) -> #N/A | I27: =VLOOKUP(G27,'Non toccare'!$A:$D,3,0) -> #N/A | J27: =VLOOKUP(G27,'Non toccare'!$A:$D,4,0) -> #N/A | P27: =VLOOKUP(O27,'Non toccare'!$A:$D,2,0) -> #N/A | Q27: =VLOOKUP(O27,'Non toccare'!$A:$D,3,0) -> #N/A
A28: 3 | H28: =VLOOKUP(G28,'Non toccare'!$A:$D,2,0) -> #N/A | I28: =VLOOKUP(G28,'Non toccare'!$A:$D,3,0) -> #N/A | J28: =VLOOKUP(G28,'Non toccare'!$A:$D,4,0) -> #N/A | P28: =VLOOKUP(O28,'Non toccare'!$A:$D,2,0) -> #N/A | Q28: =VLOOKUP(O28,'Non toccare'!$A:$D,3,0) -> #N/A
A29: 4 | H29: =VLOOKUP(G29,'Non toccare'!$A:$D,2,0) -> #N/A | I29: =VLOOKUP(G29,'Non toccare'!$A:$D,3,0) -> #N/A | J29: =VLOOKUP(G29,'Non toccare'!$A:$D,4,0) -> #N/A | P29: =VLOOKUP(O29,'Non toccare'!$A:$D,2,0) -> #N/A | Q29: =VLOOKUP(O29,'Non toccare'!$A:$D,3,0) -> #N/A
A30: 5 | H30: =VLOOKUP(G30,'Non toccare'!$A:$D,2,0) -> #N/A | I30: =VLOOKUP(G30,'Non toccare'!$A:$D,3,0) -> #N/A | J30: =VLOOKUP(G30,'Non toccare'!$A:$D,4,0) -> #N/A | P30: =VLOOKUP(O30,'Non toccare'!$A:$D,2,0) -> #N/A | Q30: =VLOOKUP(O30,'Non toccare'!$A:$D,3,0) -> #N/A
A31: 6 | H31: =VLOOKUP(G31,'Non toccare'!$A:$D,2,0) -> #N/A | I31: =VLOOKUP(G31,'Non toccare'!$A:$D,3,0) -> #N/A | J31: =VLOOKUP(G31,'Non toccare'!$A:$D,4,0) -> #N/A | P31: =VLOOKUP(O31,'Non toccare'!$A:$D,2,0) -> #N/A | Q31: =VLOOKUP(O31,'Non toccare'!$A:$D,3,0) -> #N/A
A32: 7 | H32: =VLOOKUP(G32,'Non toccare'!$A:$D,2,0) -> #N/A | I32: =VLOOKUP(G32,'Non toccare'!$A:$D,3,0) -> #N/A | J32: =VLOOKUP(G32,'Non toccare'!$A:$D,4,0) -> #N/A | P32: =VLOOKUP(O32,'Non toccare'!$A:$D,2,0) -> #N/A | Q32: =VLOOKUP(O32,'Non toccare'!$A:$D,3,0) -> #N/A
A33: 8 | H33: =VLOOKUP(G33,'Non toccare'!$A:$D,2,0) -> #N/A | I33: =VLOOKUP(G33,'Non toccare'!$A:$D,3,0) -> #N/A | J33: =VLOOKUP(G33,'Non toccare'!$A:$D,4,0) -> #N/A | P33: =VLOOKUP(O33,'Non toccare'!$A:$D,2,0) -> #N/A | Q33: =VLOOKUP(O33,'Non toccare'!$A:$D,3,0) -> #N/A
A34: 9 | H34: =VLOOKUP(G34,'Non toccare'!$A:$D,2,0) -> #N/A | I34: =VLOOKUP(G34,'Non toccare'!$A:$D,3,0) -> #N/A | J34: =VLOOKUP(G34,'Non toccare'!$A:$D,4,0) -> #N/A | P34: =VLOOKUP(O34,'Non toccare'!$A:$D,2,0) -> #N/A | Q34: =VLOOKUP(O34,'Non toccare'!$A:$D,3,0) -> #N/A
A35: 10 | H35: =VLOOKUP(G35,'Non toccare'!$A:$D,2,0) -> #N/A | I35: =VLOOKUP(G35,'Non toccare'!$A:$D,3,0) -> #N/A | J35: =VLOOKUP(G35,'Non toccare'!$A:$D,4,0) -> #N/A | P35: =VLOOKUP(O35,'Non toccare'!$A:$D,2,0) -> #N/A | Q35: =VLOOKUP(O35,'Non toccare'!$A:$D,3,0) -> #N/A
A36: 11 | H36: =VLOOKUP(G36,'Non toccare'!$A:$D,2,0) -> #N/A | I36: =VLOOKUP(G36,'Non toccare'!$A:$D,3,0) -> #N/A | J36: =VLOOKUP(G36,'Non toccare'!$A:$D,4,0) -> #N/A | P36: =VLOOKUP(O36,'Non toccare'!$A:$D,2,0) -> #N/A | Q36: =VLOOKUP(O36,'Non toccare'!$A:$D,3,0) -> #N/A
A37: 12 | H37: =VLOOKUP(G37,'Non toccare'!$A:$D,2,0) -> #N/A | I37: =VLOOKUP(G37,'Non toccare'!$A:$D,3,0) -> #N/A | J37: =VLOOKUP(G37,'Non toccare'!$A:$D,4,0) -> #N/A | P37: =VLOOKUP(O37,'Non toccare'!$A:$D,2,0) -> #N/A | Q37: =VLOOKUP(O37,'Non toccare'!$A:$D,3,0) -> #N/A
... A1025: 1000 | H1025: =VLOOKUP(G1025,'Non toccare'!$A:$D,2,0) -> #N/A | I1025: =VLOOKUP(G1025,'Non toccare'!$A:$D,3,0) -> #N/A | J1025: =VLOOKUP(G1025,'Non toccare'!$A:$D,4,0) -> #N/A | P1025: =VLOOKUP(O1025,'Non toccare'!$A:$D,2,0) -> #N/A | Q1025: =VLOOKUP(O1025,'Non toccare'!$A:$D,3,0) -> #N/A

Sheet Leggenda
A2: IDENTIFICATIVO ORDINE | B2: NUMERO ORDINE | C2: Inserire numero ordine restituito dal portale di acquisto
B3: LOTTO | C3: Inserire il lotto di appertenenza come da convenzione
B4: CIG Gara | C4: Inserire il codice CIG della gara
B5: SOGGETTO GIURIDICO | C5: Specificare se Organismo di diritto pubblio o Amministrazione Pubblica
B6: AMMINISTRAZIONE ORDINANTE REGISTRATA ALLA PIATTAFORMA DEI CREDITI COMMERCIALI DEL MEF | C6: Selezionare SI/NO per specifcare la registrazione al MEF
B7: NUMERO E DATA DETERMINA | C7: Inserire dato in formato data
B8: QUANTITA' ORDINATA (smc) | C8: Inserire totale consumo annuo, deve coincidere con il totale inserito sul portale di acquisto
A9: DATI ANAGRAFICI CLIENTE | B9: RAGIONE SOCIALE | C9: Ragione sociale
B10: CODICE FISCALE | C10: Codice Fiscale (11 cifre)
B11: PARTITA IVA | C11: P.IVA (11 cifre)
B12: TOPONIMO | C12: Toponimo
B13: INDIRIZZO | C13: Indirizzo
B14: NUMERO CIVICO | C14: Se privo di numero civico inserire SNC
B15: COMUNE/LOCALITA' | C15: Comune/Località
B16: PROVINCIA | C16: Sigla provincia
B17: CAP | C17: CAP
B18: ISTAT | C18: ISTAT
B19: SETTORE MERCEOLOGICO (ATECO) | C19: Branca dell'economia che dedica la sua attività ad analizzare i prodotti, e a categorizzarle in base alle loro caratteristiche
A20: DATI ANAGRAFICI REFERENTE | B20: NOME | C20: Si riferisce alla persona fisica che effettua l'ordinativo
B21: COGNOME | C21: Si riferisce alla persona fisica che effettua l'ordinativo
B22: TELEFONO | C22: Si riferisce alla persona fisica che effettua l'ordinativo
B23: CELLULARE | C23: Si riferisce alla persona fisica che effettua l'ordinativo
B24: EMAIL | C24: Si riferisce alla persona fisica che effettua l'ordinativo
B25: RUOLO | C25: Selezionare Ruolo aziendale
B26: EMAIL PEC AMMINISTRAZIONE | C26: Inserire email pec amministrazione per eventuali contatti
B27: REGISTRAZIONE AL SITO EDISON | C27: Selezionare SI/NO per avere l'accesso al sito Edison
A28: DATI INDIRIZZO FORNITURA | B28: REMI | C28: Inserire REMI
B29: PDR | C29: (14 cifre) - Se Remi diretta riportare lo stesso codice REMI
B30: TOPONIMO | C30: Toponimo
B31: INDIRIZZO | C31: Indirizzo
B32: NUMERO CIVICO | C32: Se privo di numero civico inserire SNC
B33: COMUNE/LOCALITA' | C33: Comune/Località
B34: PROVINCIA | C34: Sigla provincia
B35: CAP | C35: CAP
B36: ISTAT | C36: ISTAT
A37: INTESTAZIONE FATTURA | B37: INTESTAZIONE | C37: Ragione Sociale o ente che compare in fattura
B38: TOPONIMO | C38: Toponimo
B39: INDIRIZZO | C39: Indirizzo
B40: NUMERO CIVICO | C40: Se privo di numero civico inserire SNC
B41: COMUNE/LOCALITA' | C41: Comune/Località
...

Sheet Non toccare
A1: COMUNE | B1: PROVINCIA | C1: CAP | D1: ISTAT | F1: ATECO | H1: TOPONIMO | J1: ATTUALE FORNITORE | K1: SI/NO | M1: SI | O1: REGIME DI PROVENIENZA | Q1: TIPO UTILIZZO | S1: CATEGORIA D'USO | U1: CLASSE MISURATORE | W1: AGGREGAZIONE | Y1: RUOLO | AA1: LOTTO | AB1: CIG GARA
A2: AGAZZANO | B2: PC | C2: 29010 | D2: 033001 | F2: 84.11 - Attività generali di amministrazione pubblica | H2: ACCESSO | J2: EDISON ENERGIA S.P.A. | K2: SI | M2: NO | O2: Libero | Q2: Cliente domestico | S2: C1 - Riscaldamento; | U2: G1,6 | W2: USO CONTATORE | Y2: AMMINISTRATORE | AA2: 1 | AB2: B1A22123BD
A3: ALBARETO | B3: PR | C3: 43051 | D3: 034001 | F3: 84.11.1 - Attività degli organi legislativi ed esecutivi e delle amministrazioni centrali e locali | H3: AEROPORTO | J3: ABACO ENERGIA S.R.L. | K3: NO | O3: Fornitore Ultima Istanza (FUI) | Q3: Condominio con uso domestico | S3: C2 - Cottura cibi e/o produzione di acqua calda sanitaria | U3: G2,5 | W3: ALIQUOTA IVA | Y3: AMMINISTRATORE CON DELEGA | AA3: 2 | AB3: B1A2213490
A4: ALBINEA | B4: RE | C4: 42020 | D4: 035001 | F4: 84.11.10 - Attività degli organi legislativi ed esecutivi e delle amministrazioni centrali e locali | H4: AEROSCALO | J4: ABenergie SpA | O4: Servizio di Default (FDD) | Q4: Usi diversi | S4: C3 - Riscaldamento + cottura cibi e/o produzione di acqua calda sanitaria | U4: G4 | W4: CENTRO DI COSTO | Y4: AMMINISTRATORE CONDOMINIALE
A5: ALFONSINE | B5: RA | C5: 48011 | D5: 039001 | F5: 84.11.2 - Servizi di gestione esattoriale per conto terzi | H5: AIUOLA | J5: Acea Energia Spa | Q5: Servizio Pubblico | S5: C4 - Condizionamento | U5: G6 | W5: CODICE UNIVOCO | Y5: AMMINISTRATORE DELEGATO
A6: ALSENO | B6: PC | C6: 29010 | D6: 033002 | F6: 84.11.20 - Servizi di gestione esattoriale per conto terzi | H6: ALINEA | J6: ACEA PINEROLESE ENERGIA S.R.L. | S6: C5 - Condizionamento + riscaldamento | U6: G10 | W6: FATTURA 1 | Y6: AMMINISTRATORE DELEGATO E DIRETTORE GENERALE
A7: ALTA VAL TIDONE | B7: PC | C7: 29031 | D7: 033049 | F7: 84.11.3 - Attività di pianificazione generale e servizi statistici generali | H7: ALPE | J7: ACEL Service srl | S7: T1 - Tecnologico (artigianale-industriale) | U7: G16 | W7: FATTURA 2 | Y7: AMMINISTRATORE E LEGALE RAPPRESENTANTE
A8: ALTO RENO TERME | B8: BO | C8: 40046 | D8: 037062 | F8: 84.11.30 - Attività di pianificazione generale e servizi statistici generali | H8: ALTO | J8: ACIENERGIA S.R.L. | S8: T2 - Tecnologico + riscaldamento | U8: G25 | W8: FATTURA 3 | Y8: AMMINISTRATORE E SOCIO
A9: ANZOLA DELL'EMILIA | B9: BO | C9: 40011 | D9: 037001 | F9: 84.12 - Regolamentazione dei servizi di assistenza sanitaria, istruzione, servizi culturali e di altri servizi sociali | H9: ALVEO | J9: ACOS ENERGIA SPA | U9: G40 | W9: FATTURA 4 | Y9: AMMINISTRATORE E SOCIO UNICO
A10: ARGELATO | B10: BO | C10: 40050 | D10: 037002 | F10: 84.12.1 - Regolamentazione dei servizi di assistenza sanitaria | H10: ALZAIA | J10: AECLANUM ENERGIA S.R.L. | U10: G65 | W10: FATTURA 5 | Y10: AMMINISTRATORE PRO-TEMPORE
A11: ARGENTA | B11: FE | C11: 44011 | D11: 038001 | F11: 84.12.10 - Regolamentazione dei servizi di assistenza sanitaria | H11: ALZATA | J11: AEVV ENERGIE S.R.L. | U11: G100 | W11: FATTURA 6 | Y11: AMMINISTRATORE UNICO
A12: BAGNACAVALLO | B12: RA | C12: 48012 | D12: 039002 | F12: 84.12.2 - Regolamentazione dei servizi di istruzione | H12: ANDRONA | J12: A.F. ENERGIA SRL | U12: G160 | W12: FATTURA 7 | Y12: AMMINISTRATORE UNICO E LEGALE RAPPRESENTANTE
A13: BAGNARA DI ROMAGNA | B13: RA | C13: 48031 | D13: 039003 | F13: 84.12.20 - Regolamentazione dei servizi di istruzione | H13: ANDRONE | J13: A.G. ENERGIA S.R.L. | U13: G250 | W13: FATTURA 8 | Y13: AMMINISTRATORE UNICO E PROCURATORE
A14: BAGNO DI ROMAGNA | B14: FC | C14: 47021 | D14: 040001 | F14: 84.12.3 - Regolamentazione dei servizi per l'edilizia abitativa e la tutela dell'ambiente | H14: ANGIPORTO | J14: AGES TRADE SPA | U14: G400 | W14: FATTURA 9 | Y14: AMMINISTRATRICE
A15: BAGNOLO IN PIANO | B15: RE | C15: 42011 | D15: 035002 | F15: 84.12.30 - Regolamentazione dei servizi per l'edilizia abitativa e la tutela dell'ambiente | H15: ANGOLO | J15: AGESP ENERGIA SRL | U15: G650 | W15: FATTURA 10 | Y15: AMMINISTRAZIONE
A16: BAISO | B16: RE | C16: 42031 | D16: 035003 | F16: 84.12.4 - Regolamentazione dei servizi culturali e di altri servizi sociali | H16: ANTICA | J16: AGSM AIM ENERGIA S.P.A. | U16: G1000 | W16: FATTURA 11 | Y16: AREA MANAGER
A17: BARDI | B17: PR | C17: 43032 | D17: 034002 | F17: 84.12.40 - Regolamentazione dei servizi culturali e di altri servizi sociali | H17: ARA | J17: A.I.M. ENERGY S.R.L. | U17: G1600 | W17: FATTURA 12 | Y17: ASSOCIATO
A18: BARICELLA | B18: BO | C18: 40052 | D18: 037003 | F18: 84.13 - Regolamentazione delle attività che contribuiscono a una più efficiente gestione delle attività economiche | H18: ARCHETTO | J18: AIMET S.R.L. | U18: G2500 | W18: FATTURA 13 | Y18: CAPO GESTIONE AMMINISTRATIVA
A19: BASTIGLIA | B19: MO | C19: 41030 | D19: 036001 | F19: 84.13.1 - Regolamentazione dei servizi connessi a agricoltura, silvicoltura, caccia e pesca | H19: ARCHIVOLTO | J19: ALEGAS S.R.L. | U19: G4000 | W19: FATTURA 14 | Y19: CAPO SERVIZIO AMMINISTRATIVO
A20: BEDONIA | B20: PR | C20: 43041 | D20: 034003 | F20: 84.13.10 - Regolamentazione dei servizi connessi a agricoltura, silvicoltura, caccia e pesca | H20: ARCO | J20: ALLEANZA LUCE&GAS S.p.A. - in breve ALG S.p.A. | W20: FATTURA 15 | Y20: CFO
A21: BELLARIA-IGEA MARINA | B21: RN | C21: 47814 | D21: 099001 | F21: 84.13.2 - Regolamentazione dei servizi connessi a combustibili ed energia | H21: ARCO/ARCHETTO | J21: ALMA ENERGY TRADING | Y21: CHAIRMAN OF THE BOARD
A22: BENTIVOGLIO | B22: BO | C22: 40010 | D22: 037005 | F22: 84.13.20 - Regolamentazione dei servizi connessi a combustibili ed energia | H22: AREA | J22: ALPERIA SMART SERVICES SRL | Y22: CHIEF EXECUTIVE OFFICER
A23: BERCETO | B23: PR | C23: 43042 | D23: 034004 | F23: 84.13.3 - Regolamentazione dei servizi connessi a industrie estrattive e risorse minerarie, industrie manifatturiere e di costruzione | H23: AREA PEDONALE | J23: ALPIQ AG | Y23: CHIEF EXECUTIVE OFFICER AND CHAIRMAN
A24: BERTINORO | B24: FC | C24: 47032 | D24: 040003 | F24: 84.13.30 - Regolamentazione dei servizi connessi a industrie estrattive e risorse minerarie, industrie manifatturiere e di costruzione | H24: AREA VERDE | J24: ALTEA POWER SRL | Y24: CHIEF FINANCIAL OFFICER
A25: BESENZONE | B25: PC | C25: 29010 | D25: 033003 | F25: 84.13.4 - Regolamentazione dei servizi connessi a trasporti e comunicazioni | H25: ARENILE | J25: AMBIENS S.R.L. | Y25: CHIEF OPERATING OFFICER
A26: BETTOLA | B26: PC | C26: 29021 | D26: 033004 | F26: 84.13.40 - Regolamentazione dei servizi connessi a trasporti e comunicazioni | H26: ARGINE | J26: AMET ENERGIA SRL IN LIQUIDAZIONE | Y26: CHIEF OPERATING OFFICIER
A27: BIBBIANO | B27: RE | C27: 42021 | D27: 035004 | F27: 84.13.5 - Regolamentazione dei servizi connessi a commercio, servizi di alloggio e ristorazione | H27: ARGINE DESTRO | J27: AMG GAS S.R.L. | Y27: CHIEF STRATEGIC OFFICER
A28: BOBBIO | B28: PC | C28: 29022 | D28: 033005 | F28: 84.13.50 - Regolamentazione dei servizi connessi a commercio, servizi di alloggio e ristorazione | H28: ARGINE SINISTRO | J28: Amga Energia & Servizi S.r.l. con socio unico | Y28: CO-DIRETTORE
A29: BOLOGNA | B29: BO | C29: 40100 | D29: 037006 | F29: 84.13.6 - Regolamentazione dei servizi connessi al turismo | H29: ASCENSORE | J29: AMGAS BLU S.R.L. | Y29: CO-DIRETTORE GENERALE
A30: BOMPORTO | B30: MO | C30: 41030 | D30: 036002 | F30: 84.13.60 - Regolamentazione dei servizi connessi al turismo | H30: ASSE | J30: AMGAS s.r.l. | Y30: COMANDANTE
A31: BONDENO | B31: FE | C31: 44012 | D31: 038003 | F31: 84.13.9 - Regolamentazione di altri servizi | H31: ATRIO | J31: ANTENORE ENERGIA SRL | Y31: COMANDANTE PRO-TEMPORE
A32: BORE | B32: PR | C32: 43030 | D32: 034005 | F32: 84.13.90 - Regolamentazione di altri servizi | H32: AUTOSTRADA | J32: ANTONIO RETTAGLIATA SPA | Y32: COMMERCIALE
... A223: POGGIO TORRIANA | B223: RN | C223: 47824 | D223: 099028 | F223: 01.44.00 - Allevamento di cammelli e camelidi | H223: ISOLA | J223: ERG POWER GENERATION S.P.A. | Y223: VICE SINDACO
A224: POLESINE ZIBELLO | B224: PR | C224: 43016 | D224: 034050 | F224: 01.45 - Allevamento di ovini e caprini | H224: ISOLATO | J224: ERMES GAS & POWER SRL
A225: POLINAGO | B225: MO | C225: 41040 | D225: 036032 | F225: 01.45.0 - Allevamento di ovini e caprini | H225: LARGHETTO | J225: Eroga Energia S.r.l.
A226: PONTE DELL'OLIO | B226: PC | C226: 29028 | D226: 033036 | F226: 01.45.00 - Allevamento di ovini e caprini | H226: LARGO | J226: ESLA SPA
A227: PONTENURE | B227: PC | C227: 29010 | D227: 033037 | F227: 01.46 - Allevamento di suini | H227: LARGO PRIVATO | J227: E.SMART SRL
A228: PORTICO E SAN BENEDETTO | B228: FC | C228: 47010 | D228: 040031 | F228: 01.46.0 - Allevamento di suini | H228: LARGO PROPRIO | J228: ESPERIA SPA
A229: PORTOMAGGIORE | B229: FE | C229: 44015 | D229: 038019 | F229: 01.46.00 - Allevamento di suini | H229: LATO | J229: Estenergy SpA
A230: POVIGLIO | B230: RE | C230: 42028 | D230: 035029 | F230: 01.47 - Allevamento di pollame | H230: LEA | J230: ESTIA ENERGIE SRL
...
